BEGIN:VCALENDAR
VERSION:2.0
PRODID:-//Association Voix et Musiques - ECPv6.11.2//NONSGML v1.0//EN
CALSCALE:GREGORIAN
METHOD:PUBLISH
X-WR-CALNAME:Association Voix et Musiques
X-ORIGINAL-URL:https://association-voix-et-musiques.fr
X-WR-CALDESC:Évènements pour Association Voix et Musiques
REFRESH-INTERVAL;VALUE=DURATION:PT1H
X-Robots-Tag:noindex
X-PUBLISHED-TTL:PT1H
BEGIN:VTIMEZONE
TZID:Europe/Paris
BEGIN:DAYLIGHT
TZOFFSETFROM:+0100
TZOFFSETTO:+0200
TZNAME:CEST
DTSTART:20240331T010000
END:DAYLIGHT
BEGIN:STANDARD
TZOFFSETFROM:+0200
TZOFFSETTO:+0100
TZNAME:CET
DTSTART:20241027T010000
END:STANDARD
END:VTIMEZONE
BEGIN:VEVENT
DTSTART;TZID=Europe/Paris:20241020T120000
DTEND;TZID=Europe/Paris:20241020T120000
DTSTAMP:20260426T035117
CREATED:20241016T132441Z
LAST-MODIFIED:20250424T102738Z
UID:9105-1729425600-1729425600@association-voix-et-musiques.fr
SUMMARY:Concert Circuit solidaire ruban rose
DESCRIPTION:[vc_row][vc_column]\n	\n					\n				\n											\n							\n                                                        \n                            																                                                        \n                            						\n									\n			\n					\n				\n											\n							\n                                                        \n                            																                                                        \n                            						\n									\n			\n			\n[/vc_column][/vc_row]
URL:https://association-voix-et-musiques.fr/evenement/concert-circuit-solidaire-ruban-rose/
LOCATION:Boulodrome\, Parking de la Devalade\, 84120 Pertuis
CATEGORIES:Évènements passés
ATTACH;FMTTYPE=image/jpeg:https://association-voix-et-musiques.fr/wp-content/uploads/2024/10/HAPPY-GOSPEL-EN-CONCERT-DIMANCHE-20-OCTOBRE-A-MIDI-BOULODROME-PARKING-DE-LA-DEVALADE-1.jpg
END:VEVENT
END:VCALENDAR