BEGIN:VCALENDAR
VERSION:2.0
PRODID:-//Association Voix et Musiques - ECPv6.11.2//NONSGML v1.0//EN
CALSCALE:GREGORIAN
METHOD:PUBLISH
X-ORIGINAL-URL:https://association-voix-et-musiques.fr
X-WR-CALDESC:Évènements pour Association Voix et Musiques
REFRESH-INTERVAL;VALUE=DURATION:PT1H
X-Robots-Tag:noindex
X-PUBLISHED-TTL:PT1H
BEGIN:VTIMEZONE
TZID:Europe/Paris
BEGIN:DAYLIGHT
TZOFFSETFROM:+0100
TZOFFSETTO:+0200
TZNAME:CEST
DTSTART:20240331T010000
END:DAYLIGHT
BEGIN:STANDARD
TZOFFSETFROM:+0200
TZOFFSETTO:+0100
TZNAME:CET
DTSTART:20241027T010000
END:STANDARD
END:VTIMEZONE
BEGIN:VEVENT
DTSTART;TZID=Europe/Paris:20241017T153000
DTEND;TZID=Europe/Paris:20241017T170000
DTSTAMP:20260426T035232
CREATED:20241016T131525Z
LAST-MODIFIED:20241202T131145Z
UID:9095-1729179000-1729184400@association-voix-et-musiques.fr
SUMMARY:Chanter ensemble
DESCRIPTION:Tous les jeudis de 15h30 à 17h
URL:https://association-voix-et-musiques.fr/evenement/chanter-ensemble/
LOCATION:Ehpad l’Étoile de Haute Provence\, Avenue de la repasse\, 04100 Manosque
CATEGORIES:Évènements passés
ATTACH;FMTTYPE=image/jpeg:https://association-voix-et-musiques.fr/wp-content/uploads/2024/10/CHANTER-ENSEMBLE-2.jpg
END:VEVENT
END:VCALENDAR